BEGIN:VCALENDAR
VERSION:2.0
PRODID:-//WhenKickoff//Match Reminder//EN
BEGIN:VEVENT
UID:wk-554757-15@whenkickoff.com
DTSTAMP:20260420T142811Z
DTSTART:20260204T230000Z
DTEND:20260205T010000Z
SUMMARY:Clube do Remo vs Mirassol FC
DESCRIPTION:WhenKickoff reminder for Clube do Remo vs Mirassol FC
URL:https://whenkickoff.com/en/match/clube-do-remo-vs-mirassol-fc-554757/
BEGIN:VALARM
TRIGGER:-PT15M
ACTION:DISPLAY
DESCRIPTION:Match starts soon
END:VALARM
END:VEVENT
END:VCALENDAR
