BEGIN:VCALENDAR
VERSION:2.0
PRODID:-//WhenKickoff//Match Reminder//EN
BEGIN:VEVENT
UID:wk-554756-15@whenkickoff.com
DTSTAMP:20260420T145234Z
DTSTART:20260205T003000Z
DTEND:20260205T023000Z
SUMMARY:SE Palmeiras vs EC Vitória
DESCRIPTION:WhenKickoff reminder for SE Palmeiras vs EC Vitória
URL:https://whenkickoff.com/en/match/se-palmeiras-vs-ec-vit-ria-554756/
BEGIN:VALARM
TRIGGER:-PT15M
ACTION:DISPLAY
DESCRIPTION:Match starts soon
END:VALARM
END:VEVENT
END:VCALENDAR
