BEGIN:VCALENDAR
VERSION:2.0
PRODID:-//WhenKickoff//Match Reminder//EN
BEGIN:VEVENT
UID:wk-554755-15@whenkickoff.com
DTSTAMP:20260420T145052Z
DTSTART:20260205T003000Z
DTEND:20260205T023000Z
SUMMARY:Grêmio FBPA vs Botafogo FR
DESCRIPTION:WhenKickoff reminder for Grêmio FBPA vs Botafogo FR
URL:https://whenkickoff.com/en/match/gr-mio-fbpa-vs-botafogo-fr-554755/
BEGIN:VALARM
TRIGGER:-PT15M
ACTION:DISPLAY
DESCRIPTION:Match starts soon
END:VALARM
END:VEVENT
END:VCALENDAR
