BEGIN:VCALENDAR
VERSION:2.0
PRODID:-//WhenKickoff//Match Reminder//EN
BEGIN:VEVENT
UID:wk-554754-15@whenkickoff.com
DTSTAMP:20260420T142811Z
DTSTART:20260204T220000Z
DTEND:20260205T000000Z
SUMMARY:CR Flamengo vs SC Internacional
DESCRIPTION:WhenKickoff reminder for CR Flamengo vs SC Internacional
URL:https://whenkickoff.com/en/match/cr-flamengo-vs-sc-internacional-554754/
BEGIN:VALARM
TRIGGER:-PT15M
ACTION:DISPLAY
DESCRIPTION:Match starts soon
END:VALARM
END:VEVENT
END:VCALENDAR
