BEGIN:VCALENDAR
VERSION:2.0
PRODID:-//WhenKickoff//Match Reminder//EN
BEGIN:VEVENT
UID:wk-554753-15@whenkickoff.com
DTSTAMP:20260420T124540Z
DTSTART:20260206T003000Z
DTEND:20260206T023000Z
SUMMARY:Cruzeiro EC vs Coritiba FBC
DESCRIPTION:WhenKickoff reminder for Cruzeiro EC vs Coritiba FBC
URL:https://whenkickoff.com/en/match/cruzeiro-ec-vs-coritiba-fbc-554753/
BEGIN:VALARM
TRIGGER:-PT15M
ACTION:DISPLAY
DESCRIPTION:Match starts soon
END:VALARM
END:VEVENT
END:VCALENDAR
