BEGIN:VCALENDAR
VERSION:2.0
PRODID:-//WhenKickoff//Match Reminder//EN
BEGIN:VEVENT
UID:wk-554752-15@whenkickoff.com
DTSTAMP:20260420T145052Z
DTSTART:20260204T220000Z
DTEND:20260205T000000Z
SUMMARY:RB Bragantino vs CA Mineiro
DESCRIPTION:WhenKickoff reminder for RB Bragantino vs CA Mineiro
URL:https://whenkickoff.com/en/match/rb-bragantino-vs-ca-mineiro-554752/
BEGIN:VALARM
TRIGGER:-PT15M
ACTION:DISPLAY
DESCRIPTION:Match starts soon
END:VALARM
END:VEVENT
END:VCALENDAR
