BEGIN:VCALENDAR
VERSION:2.0
PRODID:-//WhenKickoff//Match Reminder//EN
BEGIN:VEVENT
UID:wk-554748-15@whenkickoff.com
DTSTAMP:20260420T043208Z
DTSTART:20260129T003000Z
DTEND:20260129T023000Z
SUMMARY:São Paulo FC vs CR Flamengo
DESCRIPTION:WhenKickoff reminder for São Paulo FC vs CR Flamengo
URL:https://whenkickoff.com/en/match/s-o-paulo-fc-vs-cr-flamengo-554748/
BEGIN:VALARM
TRIGGER:-PT15M
ACTION:DISPLAY
DESCRIPTION:Match starts soon
END:VALARM
END:VEVENT
END:VCALENDAR
