BEGIN:VCALENDAR
VERSION:2.0
PRODID:-//WhenKickoff//Match Reminder//EN
BEGIN:VEVENT
UID:wk-554747-15@whenkickoff.com
DTSTAMP:20260420T043209Z
DTSTART:20260129T230000Z
DTEND:20260130T010000Z
SUMMARY:Mirassol FC vs CR Vasco da Gama
DESCRIPTION:WhenKickoff reminder for Mirassol FC vs CR Vasco da Gama
URL:https://whenkickoff.com/en/match/mirassol-fc-vs-cr-vasco-da-gama-554747/
BEGIN:VALARM
TRIGGER:-PT15M
ACTION:DISPLAY
DESCRIPTION:Match starts soon
END:VALARM
END:VEVENT
END:VCALENDAR
