BEGIN:VCALENDAR
VERSION:2.0
PRODID:-//WhenKickoff//Match Reminder//EN
BEGIN:VEVENT
UID:wk-554745-15@whenkickoff.com
DTSTAMP:20260420T020322Z
DTSTART:20260128T223000Z
DTEND:20260129T003000Z
SUMMARY:Fluminense FC vs Grêmio FBPA
DESCRIPTION:WhenKickoff reminder for Fluminense FC vs Grêmio FBPA
URL:https://whenkickoff.com/en/match/fluminense-fc-vs-gr-mio-fbpa-554745/
BEGIN:VALARM
TRIGGER:-PT15M
ACTION:DISPLAY
DESCRIPTION:Match starts soon
END:VALARM
END:VEVENT
END:VCALENDAR
