BEGIN:VCALENDAR
VERSION:2.0
PRODID:-//WhenKickoff//Match Reminder//EN
BEGIN:VEVENT
UID:wk-554744-15@whenkickoff.com
DTSTAMP:20260420T001747Z
DTSTART:20260128T220000Z
DTEND:20260129T000000Z
SUMMARY:Coritiba FBC vs RB Bragantino
DESCRIPTION:WhenKickoff reminder for Coritiba FBC vs RB Bragantino
URL:https://whenkickoff.com/en/match/coritiba-fbc-vs-rb-bragantino-554744/
BEGIN:VALARM
TRIGGER:-PT15M
ACTION:DISPLAY
DESCRIPTION:Match starts soon
END:VALARM
END:VEVENT
END:VCALENDAR
