BEGIN:VCALENDAR
VERSION:2.0
PRODID:-//WhenKickoff//Match Reminder//EN
BEGIN:VEVENT
UID:wk-554743-15@whenkickoff.com
DTSTAMP:20260420T001745Z
DTSTART:20260128T230000Z
DTEND:20260129T010000Z
SUMMARY:SC Corinthians Paulista vs EC Bahia
DESCRIPTION:WhenKickoff reminder for SC Corinthians Paulista vs EC Bahia
URL:https://whenkickoff.com/en/match/sc-corinthians-paulista-vs-ec-bahia-554743/
BEGIN:VALARM
TRIGGER:-PT15M
ACTION:DISPLAY
DESCRIPTION:Match starts soon
END:VALARM
END:VEVENT
END:VCALENDAR
