BEGIN:VCALENDAR
VERSION:2.0
PRODID:-//WhenKickoff//Match Reminder//EN
BEGIN:VEVENT
UID:wk-554742-15@whenkickoff.com
DTSTAMP:20260420T001809Z
DTSTART:20260128T230000Z
DTEND:20260129T010000Z
SUMMARY:Chapecoense AF vs Santos FC
DESCRIPTION:WhenKickoff reminder for Chapecoense AF vs Santos FC
URL:https://whenkickoff.com/en/match/chapecoense-af-vs-santos-fc-554742/
BEGIN:VALARM
TRIGGER:-PT15M
ACTION:DISPLAY
DESCRIPTION:Match starts soon
END:VALARM
END:VEVENT
END:VCALENDAR
