BEGIN:VCALENDAR
VERSION:2.0
PRODID:-//WhenKickoff//Match Reminder//EN
BEGIN:VEVENT
UID:wk-554741-15@whenkickoff.com
DTSTAMP:20260420T020322Z
DTSTART:20260130T003000Z
DTEND:20260130T023000Z
SUMMARY:Botafogo FR vs Cruzeiro EC
DESCRIPTION:WhenKickoff reminder for Botafogo FR vs Cruzeiro EC
URL:https://whenkickoff.com/en/match/botafogo-fr-vs-cruzeiro-ec-554741/
BEGIN:VALARM
TRIGGER:-PT15M
ACTION:DISPLAY
DESCRIPTION:Match starts soon
END:VALARM
END:VEVENT
END:VCALENDAR
