BEGIN:VCALENDAR
VERSION:2.0
PRODID:-//WhenKickoff//Match Reminder//EN
BEGIN:VEVENT
UID:wk-552095-15@whenkickoff.com
DTSTAMP:20260421T121410Z
DTSTART:20260505T190000Z
DTEND:20260505T210000Z
SUMMARY:Arsenal FC vs Club Atlético de Madrid
DESCRIPTION:WhenKickoff reminder for Arsenal FC vs Club Atlético de Madrid
URL:https://whenkickoff.com/en/match/arsenal-fc-vs-club-atl-tico-de-madrid-552095/
BEGIN:VALARM
TRIGGER:-PT15M
ACTION:DISPLAY
DESCRIPTION:Match starts soon
END:VALARM
END:VEVENT
END:VCALENDAR
