BEGIN:VCALENDAR
VERSION:2.0
PRODID:-//WhenKickoff//Match Reminder//EN
BEGIN:VEVENT
UID:wk-552094-15@whenkickoff.com
DTSTAMP:20260424T115952Z
DTSTART:20260506T190000Z
DTEND:20260506T210000Z
SUMMARY:FC Bayern München vs Paris Saint-Germain FC
DESCRIPTION:WhenKickoff reminder for FC Bayern München vs Paris Saint-Germain FC
URL:https://whenkickoff.com/en/match/fc-bayern-m-nchen-vs-paris-saint-germain-fc-552094/
BEGIN:VALARM
TRIGGER:-PT15M
ACTION:DISPLAY
DESCRIPTION:Match starts soon
END:VALARM
END:VEVENT
END:VCALENDAR
