BEGIN:VCALENDAR
VERSION:2.0
PRODID:-//WhenKickoff//Match Reminder//EN
BEGIN:VEVENT
UID:wk-552092-15@whenkickoff.com
DTSTAMP:20260419T135921Z
DTSTART:20260428T190000Z
DTEND:20260428T210000Z
SUMMARY:Paris Saint-Germain FC vs FC Bayern München
DESCRIPTION:WhenKickoff reminder for Paris Saint-Germain FC vs FC Bayern München
URL:https://whenkickoff.com/en/match/paris-saint-germain-fc-vs-fc-bayern-m-nchen-552092/
BEGIN:VALARM
TRIGGER:-PT15M
ACTION:DISPLAY
DESCRIPTION:Match starts soon
END:VALARM
END:VEVENT
END:VCALENDAR
