BEGIN:VCALENDAR
VERSION:2.0
PRODID:-//WhenKickoff//Match Reminder//EN
BEGIN:VEVENT
UID:wk-552082-15@whenkickoff.com
DTSTAMP:20260419T234147Z
DTSTART:20260317T174500Z
DTEND:20260317T194500Z
SUMMARY:Sporting Clube de Portugal vs FK Bodø/Glimt
DESCRIPTION:WhenKickoff reminder for Sporting Clube de Portugal vs FK Bodø/Glimt
URL:https://whenkickoff.com/en/match/sporting-clube-de-portugal-vs-fk-bod-glimt-552082/
BEGIN:VALARM
TRIGGER:-PT15M
ACTION:DISPLAY
DESCRIPTION:Match starts soon
END:VALARM
END:VEVENT
END:VCALENDAR
