BEGIN:VCALENDAR
VERSION:2.0
PRODID:-//WhenKickoff//Match Reminder//EN
BEGIN:VEVENT
UID:wk-552079-15@whenkickoff.com
DTSTAMP:20260419T201248Z
DTSTART:20260318T200000Z
DTEND:20260318T220000Z
SUMMARY:FC Bayern München vs Atalanta BC
DESCRIPTION:WhenKickoff reminder for FC Bayern München vs Atalanta BC
URL:https://whenkickoff.com/en/match/fc-bayern-m-nchen-vs-atalanta-bc-552079/
BEGIN:VALARM
TRIGGER:-PT15M
ACTION:DISPLAY
DESCRIPTION:Match starts soon
END:VALARM
END:VEVENT
END:VCALENDAR
