BEGIN:VCALENDAR
VERSION:2.0
PRODID:-//WhenKickoff//Match Reminder//EN
BEGIN:VEVENT
UID:wk-552078-15@whenkickoff.com
DTSTAMP:20260419T165239Z
DTSTART:20260317T200000Z
DTEND:20260317T220000Z
SUMMARY:Manchester City FC vs Real Madrid CF
DESCRIPTION:WhenKickoff reminder for Manchester City FC vs Real Madrid CF
URL:https://whenkickoff.com/en/match/manchester-city-fc-vs-real-madrid-cf-552078/
BEGIN:VALARM
TRIGGER:-PT15M
ACTION:DISPLAY
DESCRIPTION:Match starts soon
END:VALARM
END:VEVENT
END:VCALENDAR
