BEGIN:VCALENDAR
VERSION:2.0
PRODID:-//WhenKickoff//Match Reminder//EN
BEGIN:VEVENT
UID:wk-552075-15@whenkickoff.com
DTSTAMP:20260419T171627Z
DTSTART:20260311T174500Z
DTEND:20260311T194500Z
SUMMARY:Bayer 04 Leverkusen vs Arsenal FC
DESCRIPTION:WhenKickoff reminder for Bayer 04 Leverkusen vs Arsenal FC
URL:https://whenkickoff.com/en/match/bayer-04-leverkusen-vs-arsenal-fc-552075/
BEGIN:VALARM
TRIGGER:-PT15M
ACTION:DISPLAY
DESCRIPTION:Match starts soon
END:VALARM
END:VEVENT
END:VCALENDAR
