BEGIN:VCALENDAR
VERSION:2.0
PRODID:-//WhenKickoff//Match Reminder//EN
BEGIN:VEVENT
UID:wk-552073-15@whenkickoff.com
DTSTAMP:20260419T192357Z
DTSTART:20260310T200000Z
DTEND:20260310T220000Z
SUMMARY:Club Atlético de Madrid vs Tottenham Hotspur FC
DESCRIPTION:WhenKickoff reminder for Club Atlético de Madrid vs Tottenham Hotspur FC
URL:https://whenkickoff.com/en/match/club-atl-tico-de-madrid-vs-tottenham-hotspur-fc-552073/
BEGIN:VALARM
TRIGGER:-PT15M
ACTION:DISPLAY
DESCRIPTION:Match starts soon
END:VALARM
END:VEVENT
END:VCALENDAR
