BEGIN:VCALENDAR
VERSION:2.0
PRODID:-//WhenKickoff//Match Reminder//EN
BEGIN:VEVENT
UID:wk-552070-15@whenkickoff.com
DTSTAMP:20260419T165240Z
DTSTART:20260311T200000Z
DTEND:20260311T220000Z
SUMMARY:Real Madrid CF vs Manchester City FC
DESCRIPTION:WhenKickoff reminder for Real Madrid CF vs Manchester City FC
URL:https://whenkickoff.com/en/match/real-madrid-cf-vs-manchester-city-fc-552070/
BEGIN:VALARM
TRIGGER:-PT15M
ACTION:DISPLAY
DESCRIPTION:Match starts soon
END:VALARM
END:VEVENT
END:VCALENDAR
