BEGIN:VCALENDAR
VERSION:2.0
PRODID:-//WhenKickoff//Match Reminder//EN
BEGIN:VEVENT
UID:wk-552068-15@whenkickoff.com
DTSTAMP:20260419T192357Z
DTSTART:20260311T200000Z
DTEND:20260311T220000Z
SUMMARY:Paris Saint-Germain FC vs Chelsea FC
DESCRIPTION:WhenKickoff reminder for Paris Saint-Germain FC vs Chelsea FC
URL:https://whenkickoff.com/en/match/paris-saint-germain-fc-vs-chelsea-fc-552068/
BEGIN:VALARM
TRIGGER:-PT15M
ACTION:DISPLAY
DESCRIPTION:Match starts soon
END:VALARM
END:VEVENT
END:VCALENDAR
