BEGIN:VCALENDAR
VERSION:2.0
PRODID:-//WhenKickoff//Match Reminder//EN
BEGIN:VEVENT
UID:wk-552066-15@whenkickoff.com
DTSTAMP:20260420T001809Z
DTSTART:20260224T200000Z
DTEND:20260224T220000Z
SUMMARY:Bayer 04 Leverkusen vs PAE Olympiakos SFP
DESCRIPTION:WhenKickoff reminder for Bayer 04 Leverkusen vs PAE Olympiakos SFP
URL:https://whenkickoff.com/en/match/bayer-04-leverkusen-vs-pae-olympiakos-sfp-552066/
BEGIN:VALARM
TRIGGER:-PT15M
ACTION:DISPLAY
DESCRIPTION:Match starts soon
END:VALARM
END:VEVENT
END:VCALENDAR
