BEGIN:VCALENDAR
VERSION:2.0
PRODID:-//WhenKickoff//Match Reminder//EN
BEGIN:VEVENT
UID:wk-552064-15@whenkickoff.com
DTSTAMP:20260420T011701Z
DTSTART:20260224T174500Z
DTEND:20260224T194500Z
SUMMARY:Club Atlético de Madrid vs Club Brugge KV
DESCRIPTION:WhenKickoff reminder for Club Atlético de Madrid vs Club Brugge KV
URL:https://whenkickoff.com/en/match/club-atl-tico-de-madrid-vs-club-brugge-kv-552064/
BEGIN:VALARM
TRIGGER:-PT15M
ACTION:DISPLAY
DESCRIPTION:Match starts soon
END:VALARM
END:VEVENT
END:VCALENDAR
