BEGIN:VCALENDAR
VERSION:2.0
PRODID:-//WhenKickoff//Match Reminder//EN
BEGIN:VEVENT
UID:wk-552062-15@whenkickoff.com
DTSTAMP:20260420T024032Z
DTSTART:20260224T200000Z
DTEND:20260224T220000Z
SUMMARY:Newcastle United FC vs Qarabağ Ağdam FK
DESCRIPTION:WhenKickoff reminder for Newcastle United FC vs Qarabağ Ağdam FK
URL:https://whenkickoff.com/en/match/newcastle-united-fc-vs-qaraba-a-dam-fk-552062/
BEGIN:VALARM
TRIGGER:-PT15M
ACTION:DISPLAY
DESCRIPTION:Match starts soon
END:VALARM
END:VEVENT
END:VCALENDAR
