BEGIN:VCALENDAR
VERSION:2.0
PRODID:-//WhenKickoff//Match Reminder//EN
BEGIN:VEVENT
UID:wk-552060-15@whenkickoff.com
DTSTAMP:20260420T001744Z
DTSTART:20260225T200000Z
DTEND:20260225T220000Z
SUMMARY:Real Madrid CF vs Sport Lisboa e Benfica
DESCRIPTION:WhenKickoff reminder for Real Madrid CF vs Sport Lisboa e Benfica
URL:https://whenkickoff.com/en/match/real-madrid-cf-vs-sport-lisboa-e-benfica-552060/
BEGIN:VALARM
TRIGGER:-PT15M
ACTION:DISPLAY
DESCRIPTION:Match starts soon
END:VALARM
END:VEVENT
END:VCALENDAR
