BEGIN:VCALENDAR
VERSION:2.0
PRODID:-//WhenKickoff//Match Reminder//EN
BEGIN:VEVENT
UID:wk-552057-15@whenkickoff.com
DTSTAMP:20260420T024032Z
DTSTART:20260217T201500Z
DTEND:20260217T221500Z
SUMMARY:Borussia Dortmund vs Atalanta BC
DESCRIPTION:WhenKickoff reminder for Borussia Dortmund vs Atalanta BC
URL:https://whenkickoff.com/en/match/borussia-dortmund-vs-atalanta-bc-552057/
BEGIN:VALARM
TRIGGER:-PT15M
ACTION:DISPLAY
DESCRIPTION:Match starts soon
END:VALARM
END:VEVENT
END:VCALENDAR
