BEGIN:VCALENDAR
VERSION:2.0
PRODID:-//WhenKickoff//Match Reminder//EN
BEGIN:VEVENT
UID:wk-552056-15@whenkickoff.com
DTSTAMP:20260420T024032Z
DTSTART:20260218T200000Z
DTEND:20260218T220000Z
SUMMARY:Club Brugge KV vs Club Atlético de Madrid
DESCRIPTION:WhenKickoff reminder for Club Brugge KV vs Club Atlético de Madrid
URL:https://whenkickoff.com/en/match/club-brugge-kv-vs-club-atl-tico-de-madrid-552056/
BEGIN:VALARM
TRIGGER:-PT15M
ACTION:DISPLAY
DESCRIPTION:Match starts soon
END:VALARM
END:VEVENT
END:VCALENDAR
