BEGIN:VCALENDAR
VERSION:2.0
PRODID:-//WhenKickoff//Match Reminder//EN
BEGIN:VEVENT
UID:wk-552054-15@whenkickoff.com
DTSTAMP:20260420T035344Z
DTSTART:20260218T174500Z
DTEND:20260218T194500Z
SUMMARY:Qarabağ Ağdam FK vs Newcastle United FC
DESCRIPTION:WhenKickoff reminder for Qarabağ Ağdam FK vs Newcastle United FC
URL:https://whenkickoff.com/en/match/qaraba-a-dam-fk-vs-newcastle-united-fc-552054/
BEGIN:VALARM
TRIGGER:-PT15M
ACTION:DISPLAY
DESCRIPTION:Match starts soon
END:VALARM
END:VEVENT
END:VCALENDAR
