BEGIN:VCALENDAR
VERSION:2.0
PRODID:-//WhenKickoff//Match Reminder//EN
BEGIN:VEVENT
UID:wk-552053-15@whenkickoff.com
DTSTAMP:20260420T023947Z
DTSTART:20260217T200000Z
DTEND:20260217T220000Z
SUMMARY:AS Monaco FC vs Paris Saint-Germain FC
DESCRIPTION:WhenKickoff reminder for AS Monaco FC vs Paris Saint-Germain FC
URL:https://whenkickoff.com/en/match/as-monaco-fc-vs-paris-saint-germain-fc-552053/
BEGIN:VALARM
TRIGGER:-PT15M
ACTION:DISPLAY
DESCRIPTION:Match starts soon
END:VALARM
END:VEVENT
END:VCALENDAR
