BEGIN:VCALENDAR
VERSION:2.0
PRODID:-//WhenKickoff//Match Reminder//EN
BEGIN:VEVENT
UID:wk-552052-15@whenkickoff.com
DTSTAMP:20260420T001746Z
DTSTART:20260217T200000Z
DTEND:20260217T220000Z
SUMMARY:Sport Lisboa e Benfica vs Real Madrid CF
DESCRIPTION:WhenKickoff reminder for Sport Lisboa e Benfica vs Real Madrid CF
URL:https://whenkickoff.com/en/match/sport-lisboa-e-benfica-vs-real-madrid-cf-552052/
BEGIN:VALARM
TRIGGER:-PT15M
ACTION:DISPLAY
DESCRIPTION:Match starts soon
END:VALARM
END:VEVENT
END:VCALENDAR
