BEGIN:VCALENDAR
VERSION:2.0
PRODID:-//WhenKickoff//Match Reminder//EN
BEGIN:VEVENT
UID:wk-552051-15@whenkickoff.com
DTSTAMP:20260420T061319Z
DTSTART:20260128T200000Z
DTEND:20260128T220000Z
SUMMARY:Paphos FC vs SK Slavia Praha
DESCRIPTION:WhenKickoff reminder for Paphos FC vs SK Slavia Praha
URL:https://whenkickoff.com/en/match/paphos-fc-vs-sk-slavia-praha-552051/
BEGIN:VALARM
TRIGGER:-PT15M
ACTION:DISPLAY
DESCRIPTION:Match starts soon
END:VALARM
END:VEVENT
END:VCALENDAR
