BEGIN:VCALENDAR
VERSION:2.0
PRODID:-//WhenKickoff//Match Reminder//EN
BEGIN:VEVENT
UID:wk-552038-15@whenkickoff.com
DTSTAMP:20260420T043053Z
DTSTART:20260120T200000Z
DTEND:20260120T220000Z
SUMMARY:FC København vs SSC Napoli
DESCRIPTION:WhenKickoff reminder for FC København vs SSC Napoli
URL:https://whenkickoff.com/en/match/fc-k-benhavn-vs-ssc-napoli-552038/
BEGIN:VALARM
TRIGGER:-PT15M
ACTION:DISPLAY
DESCRIPTION:Match starts soon
END:VALARM
END:VEVENT
END:VCALENDAR
