BEGIN:VCALENDAR
VERSION:2.0
PRODID:-//WhenKickoff//Match Reminder//EN
BEGIN:VEVENT
UID:wk-552036-15@whenkickoff.com
DTSTAMP:20260420T001808Z
DTSTART:20260121T200000Z
DTEND:20260121T220000Z
SUMMARY:Newcastle United FC vs PSV
DESCRIPTION:WhenKickoff reminder for Newcastle United FC vs PSV
URL:https://whenkickoff.com/en/match/newcastle-united-fc-vs-psv-552036/
BEGIN:VALARM
TRIGGER:-PT15M
ACTION:DISPLAY
DESCRIPTION:Match starts soon
END:VALARM
END:VEVENT
END:VCALENDAR
