BEGIN:VCALENDAR
VERSION:2.0
PRODID:-//WhenKickoff//Match Reminder//EN
BEGIN:VEVENT
UID:wk-552030-15@whenkickoff.com
DTSTAMP:20260420T001744Z
DTSTART:20260128T200000Z
DTEND:20260128T220000Z
SUMMARY:AFC Ajax vs PAE Olympiakos SFP
DESCRIPTION:WhenKickoff reminder for AFC Ajax vs PAE Olympiakos SFP
URL:https://whenkickoff.com/en/match/afc-ajax-vs-pae-olympiakos-sfp-552030/
BEGIN:VALARM
TRIGGER:-PT15M
ACTION:DISPLAY
DESCRIPTION:Match starts soon
END:VALARM
END:VEVENT
END:VCALENDAR
