BEGIN:VCALENDAR
VERSION:2.0
PRODID:-//WhenKickoff//Match Reminder//EN
BEGIN:VEVENT
UID:wk-552028-15@whenkickoff.com
DTSTAMP:20260420T020330Z
DTSTART:20260128T200000Z
DTEND:20260128T220000Z
SUMMARY:Athletic Club vs Sporting Clube de Portugal
DESCRIPTION:WhenKickoff reminder for Athletic Club vs Sporting Clube de Portugal
URL:https://whenkickoff.com/en/match/athletic-club-vs-sporting-clube-de-portugal-552028/
BEGIN:VALARM
TRIGGER:-PT15M
ACTION:DISPLAY
DESCRIPTION:Match starts soon
END:VALARM
END:VEVENT
END:VCALENDAR
