BEGIN:VCALENDAR
VERSION:2.0
PRODID:-//WhenKickoff//Match Reminder//EN
BEGIN:VEVENT
UID:wk-552006-15@whenkickoff.com
DTSTAMP:20260420T022711Z
DTSTART:20260128T200000Z
DTEND:20260128T220000Z
SUMMARY:AS Monaco FC vs Juventus FC
DESCRIPTION:WhenKickoff reminder for AS Monaco FC vs Juventus FC
URL:https://whenkickoff.com/en/match/as-monaco-fc-vs-juventus-fc-552006/
BEGIN:VALARM
TRIGGER:-PT15M
ACTION:DISPLAY
DESCRIPTION:Match starts soon
END:VALARM
END:VEVENT
END:VCALENDAR
