BEGIN:VCALENDAR
VERSION:2.0
PRODID:-//WhenKickoff//Match Reminder//EN
BEGIN:VEVENT
UID:wk-551998-15@whenkickoff.com
DTSTAMP:20260420T022711Z
DTSTART:20260128T200000Z
DTEND:20260128T220000Z
SUMMARY:Eintracht Frankfurt vs Tottenham Hotspur FC
DESCRIPTION:WhenKickoff reminder for Eintracht Frankfurt vs Tottenham Hotspur FC
URL:https://whenkickoff.com/en/match/eintracht-frankfurt-vs-tottenham-hotspur-fc-551998/
BEGIN:VALARM
TRIGGER:-PT15M
ACTION:DISPLAY
DESCRIPTION:Match starts soon
END:VALARM
END:VEVENT
END:VCALENDAR
