BEGIN:VCALENDAR
VERSION:2.0
PRODID:-//WhenKickoff//Match Reminder//EN
BEGIN:VEVENT
UID:wk-551996-15@whenkickoff.com
DTSTAMP:20260420T030129Z
DTSTART:20260120T153000Z
DTEND:20260120T173000Z
SUMMARY:FK Kairat vs Club Brugge KV
DESCRIPTION:WhenKickoff reminder for FK Kairat vs Club Brugge KV
URL:https://whenkickoff.com/en/match/fk-kairat-vs-club-brugge-kv-551996/
BEGIN:VALARM
TRIGGER:-PT15M
ACTION:DISPLAY
DESCRIPTION:Match starts soon
END:VALARM
END:VEVENT
END:VCALENDAR
