BEGIN:VCALENDAR
VERSION:2.0
PRODID:-//WhenKickoff//Match Reminder//EN
BEGIN:VEVENT
UID:wk-551993-15@whenkickoff.com
DTSTAMP:20260420T022716Z
DTSTART:20260128T200000Z
DTEND:20260128T220000Z
SUMMARY:Club Brugge KV vs Olympique de Marseille
DESCRIPTION:WhenKickoff reminder for Club Brugge KV vs Olympique de Marseille
URL:https://whenkickoff.com/en/match/club-brugge-kv-vs-olympique-de-marseille-551993/
BEGIN:VALARM
TRIGGER:-PT15M
ACTION:DISPLAY
DESCRIPTION:Match starts soon
END:VALARM
END:VEVENT
END:VCALENDAR
