BEGIN:VCALENDAR
VERSION:2.0
PRODID:-//WhenKickoff//Match Reminder//EN
BEGIN:VEVENT
UID:wk-551988-15@whenkickoff.com
DTSTAMP:20260420T081643Z
DTSTART:20260121T200000Z
DTEND:20260121T220000Z
SUMMARY:Juventus FC vs Sport Lisboa e Benfica
DESCRIPTION:WhenKickoff reminder for Juventus FC vs Sport Lisboa e Benfica
URL:https://whenkickoff.com/en/match/juventus-fc-vs-sport-lisboa-e-benfica-551988/
BEGIN:VALARM
TRIGGER:-PT15M
ACTION:DISPLAY
DESCRIPTION:Match starts soon
END:VALARM
END:VEVENT
END:VCALENDAR
