BEGIN:VCALENDAR
VERSION:2.0
PRODID:-//WhenKickoff//Match Reminder//EN
BEGIN:VEVENT
UID:wk-551987-15@whenkickoff.com
DTSTAMP:20260420T001746Z
DTSTART:20260128T200000Z
DTEND:20260128T220000Z
SUMMARY:Royale Union Saint-Gilloise vs Atalanta BC
DESCRIPTION:WhenKickoff reminder for Royale Union Saint-Gilloise vs Atalanta BC
URL:https://whenkickoff.com/en/match/royale-union-saint-gilloise-vs-atalanta-bc-551987/
BEGIN:VALARM
TRIGGER:-PT15M
ACTION:DISPLAY
DESCRIPTION:Match starts soon
END:VALARM
END:VEVENT
END:VCALENDAR
