BEGIN:VCALENDAR
VERSION:2.0
PRODID:-//WhenKickoff//Match Reminder//EN
BEGIN:VEVENT
UID:wk-551986-15@whenkickoff.com
DTSTAMP:20260420T080255Z
DTSTART:20260121T200000Z
DTEND:20260121T220000Z
SUMMARY:Atalanta BC vs Athletic Club
DESCRIPTION:WhenKickoff reminder for Atalanta BC vs Athletic Club
URL:https://whenkickoff.com/en/match/atalanta-bc-vs-athletic-club-551986/
BEGIN:VALARM
TRIGGER:-PT15M
ACTION:DISPLAY
DESCRIPTION:Match starts soon
END:VALARM
END:VEVENT
END:VCALENDAR
