BEGIN:VCALENDAR
VERSION:2.0
PRODID:-//WhenKickoff//Match Reminder//EN
BEGIN:VEVENT
UID:wk-551980-15@whenkickoff.com
DTSTAMP:20260420T022603Z
DTSTART:20260128T200000Z
DTEND:20260128T220000Z
SUMMARY:Arsenal FC vs FK Kairat
DESCRIPTION:WhenKickoff reminder for Arsenal FC vs FK Kairat
URL:https://whenkickoff.com/en/match/arsenal-fc-vs-fk-kairat-551980/
BEGIN:VALARM
TRIGGER:-PT15M
ACTION:DISPLAY
DESCRIPTION:Match starts soon
END:VALARM
END:VEVENT
END:VCALENDAR
