BEGIN:VCALENDAR
VERSION:2.0
PRODID:-//WhenKickoff//Match Reminder//EN
BEGIN:VEVENT
UID:wk-551970-15@whenkickoff.com
DTSTAMP:20260420T001747Z
DTSTART:20260128T200000Z
DTEND:20260128T220000Z
SUMMARY:Bayer 04 Leverkusen vs Villarreal CF
DESCRIPTION:WhenKickoff reminder for Bayer 04 Leverkusen vs Villarreal CF
URL:https://whenkickoff.com/en/match/bayer-04-leverkusen-vs-villarreal-cf-551970/
BEGIN:VALARM
TRIGGER:-PT15M
ACTION:DISPLAY
DESCRIPTION:Match starts soon
END:VALARM
END:VEVENT
END:VCALENDAR
