BEGIN:VCALENDAR
VERSION:2.0
PRODID:-//WhenKickoff//Match Reminder//EN
BEGIN:VEVENT
UID:wk-551957-15@whenkickoff.com
DTSTAMP:20260420T020329Z
DTSTART:20260128T200000Z
DTEND:20260128T220000Z
SUMMARY:FC Barcelona vs FC København
DESCRIPTION:WhenKickoff reminder for FC Barcelona vs FC København
URL:https://whenkickoff.com/en/match/fc-barcelona-vs-fc-k-benhavn-551957/
BEGIN:VALARM
TRIGGER:-PT15M
ACTION:DISPLAY
DESCRIPTION:Match starts soon
END:VALARM
END:VEVENT
END:VCALENDAR
