BEGIN:VCALENDAR
VERSION:2.0
PRODID:-//WhenKickoff//Match Reminder//EN
BEGIN:VEVENT
UID:wk-551956-15@whenkickoff.com
DTSTAMP:20260420T081647Z
DTSTART:20260121T200000Z
DTEND:20260121T220000Z
SUMMARY:SK Slavia Praha vs FC Barcelona
DESCRIPTION:WhenKickoff reminder for SK Slavia Praha vs FC Barcelona
URL:https://whenkickoff.com/en/match/sk-slavia-praha-vs-fc-barcelona-551956/
BEGIN:VALARM
TRIGGER:-PT15M
ACTION:DISPLAY
DESCRIPTION:Match starts soon
END:VALARM
END:VEVENT
END:VCALENDAR
