BEGIN:VCALENDAR
VERSION:2.0
PRODID:-//WhenKickoff//Match Reminder//EN
BEGIN:VEVENT
UID:wk-551950-15@whenkickoff.com
DTSTAMP:20260420T001715Z
DTSTART:20260128T200000Z
DTEND:20260128T220000Z
SUMMARY:Liverpool FC vs Qarabağ Ağdam FK
DESCRIPTION:WhenKickoff reminder for Liverpool FC vs Qarabağ Ağdam FK
URL:https://whenkickoff.com/en/match/liverpool-fc-vs-qaraba-a-dam-fk-551950/
BEGIN:VALARM
TRIGGER:-PT15M
ACTION:DISPLAY
DESCRIPTION:Match starts soon
END:VALARM
END:VEVENT
END:VCALENDAR
