BEGIN:VCALENDAR
VERSION:2.0
PRODID:-//WhenKickoff//Match Reminder//EN
BEGIN:VEVENT
UID:wk-551949-15@whenkickoff.com
DTSTAMP:20260420T001745Z
DTSTART:20260121T200000Z
DTEND:20260121T220000Z
SUMMARY:Olympique de Marseille vs Liverpool FC
DESCRIPTION:WhenKickoff reminder for Olympique de Marseille vs Liverpool FC
URL:https://whenkickoff.com/en/match/olympique-de-marseille-vs-liverpool-fc-551949/
BEGIN:VALARM
TRIGGER:-PT15M
ACTION:DISPLAY
DESCRIPTION:Match starts soon
END:VALARM
END:VEVENT
END:VCALENDAR
